BEGIN:VCALENDAR
VERSION:2.0
PRODID:-//ОМДН//Events//RU
CALSCALE:GREGORIAN
METHOD:PUBLISH
BEGIN:VTIMEZONE
TZID:Asia/Yekaterinburg
BEGIN:DAYLIGHT
TZOFFSETFROM:+0500
TZOFFSETTO:+0600
DTSTART:19700329T020000
RRULE:FREQ=YEARLY;BYMONTH=3;BYDAY=-1SU
TZNAME:YEKT
END:DAYLIGHT
BEGIN:STANDARD
TZOFFSETFROM:+0600
TZOFFSETTO:+0500
DTSTART:19701025T030000
RRULE:FREQ=YEARLY;BYMONTH=10;BYDAY=-1SU
TZNAME:YEKT
END:STANDARD
END:VTIMEZONE
BEGIN:VEVENT
SUMMARY:Открытие сезона в музейном дворике «Эссен»
DTSTART;TZID=Asia/Yekaterinburg:20250426T120000
DTEND;TZID=Asia/Yekaterinburg:20260426T210000
LOCATION:Музейный дворик «Эссен», ул. Советская, 28
DESCRIPTION:Встречаем весну в лучшем музейном дворике Оренбурга

Подробности: https://www.xn--d1apeb.xn--p1ai/events/otkrytie-sezona-v-muzeinom-dvorike-essen/calendar.ics
URL:https://ogikm.ru/vystavki/otkrytie-sezona-muzeynogo-dvorika-essen-6
END:VEVENT
END:VCALENDAR