BEGIN:VCALENDAR
VERSION:2.0
PRODID:-//ОМДН//Events//RU
CALSCALE:GREGORIAN
METHOD:PUBLISH
BEGIN:VTIMEZONE
TZID:Asia/Yekaterinburg
BEGIN:DAYLIGHT
TZOFFSETFROM:+0500
TZOFFSETTO:+0600
DTSTART:19700329T020000
RRULE:FREQ=YEARLY;BYMONTH=3;BYDAY=-1SU
TZNAME:YEKT
END:DAYLIGHT
BEGIN:STANDARD
TZOFFSETFROM:+0600
TZOFFSETTO:+0500
DTSTART:19701025T030000
RRULE:FREQ=YEARLY;BYMONTH=10;BYDAY=-1SU
TZNAME:YEKT
END:STANDARD
END:VTIMEZONE
BEGIN:VEVENT
SUMMARY:Выставка о Галине Вишневской в доме-музее Ростроповичей
DTSTART;TZID=Asia/Yekaterinburg:20260425T140000
DTEND;TZID=Asia/Yekaterinburg:20261101T173000
LOCATION:Дом-музей семьи Ростроповичей, ул. Зиминская, 25
DESCRIPTION:Событие от проекта «от мёртвого до нескучного» — подборка интересных мероприятий в Оренбурге.

Подробности: https://www.xn--d1apeb.xn--p1ai/events/vystavka-o-galine-vishnevskoi-v-dome-muzee-rostropovichei/calendar.ics
URL:https://orenburgskiy-oblastnoy-mu.timepad.ru/event/3933790/
END:VEVENT
END:VCALENDAR